BEGIN:VCALENDAR
VERSION:2.0
PRODID:-//Visit Trinidad - ECPv6.15.20//NONSGML v1.0//EN
CALSCALE:GREGORIAN
METHOD:PUBLISH
X-WR-CALNAME:Visit Trinidad
X-ORIGINAL-URL:https://visittrinidad.tt
X-WR-CALDESC:Events for Visit Trinidad
REFRESH-INTERVAL;VALUE=DURATION:PT1H
X-Robots-Tag:noindex
X-PUBLISHED-TTL:PT1H
BEGIN:VTIMEZONE
TZID:UTC
BEGIN:STANDARD
TZOFFSETFROM:+0000
TZOFFSETTO:+0000
TZNAME:UTC
DTSTART:20210101T000000
END:STANDARD
END:VTIMEZONE
BEGIN:VEVENT
DTSTART;VALUE=DATE:20220616
DTEND;VALUE=DATE:20220617
DTSTAMP:20260425T144536
CREATED:20201014T154322Z
LAST-MODIFIED:20220207T174136Z
UID:2944-1655337600-1655423999@visittrinidad.tt
SUMMARY:Corpus Christi
DESCRIPTION:In Trinidad and Tobago Corpus Christi (Body of Christ) is a Christian feast celebrating the Holy Eucharist. The feast which is primarily celebrated by the Roman Catholic Church celebrates the death and resurrection of Christ with Mass or Communion whereby\, Christians partake in a representation of Christ’s body and blood.
URL:https://visittrinidad.tt/event/corpus-christi
CATEGORIES:Public Holidays
END:VEVENT
BEGIN:VEVENT
DTSTART;VALUE=DATE:20220619
DTEND;VALUE=DATE:20220620
DTSTAMP:20260425T144536
CREATED:20201014T154523Z
LAST-MODIFIED:20220207T174203Z
UID:2948-1655596800-1655683199@visittrinidad.tt
SUMMARY:Labour Day
DESCRIPTION:In Trinidad and Tobago Labour Day was declared an annual national holiday in 1973. Celebrated on June 19th\, it is the anniversary of the day of the Butler Oilfield Riots which took place in 1937. \nPrior to this time there were ongoing tensions between workers and employers in many sectors of society. These were characterized by situations of worker abuse\, underpayment for labour\, racism\, economic depression and a considerable fall in the living standards of the working class. \nBetween 1934 and 1937 workers became more influenced by a need for change resulting in strikes and riots which extended throughout the Caribbean. This gave rise to several prominent labour leaders in Trinidad and Tobago such as Tubal Uriah “Buzz” Butler. \nButler was awarded the nation’s highest honour\, the Trinity Cross\, and the country’s main highway has been re-named in his honour. Today\, a statue of Butler stands at the Fyzabad junction\, the place where police attempted to arrest him on June 19th\, the day of the historic riots 1937. \nLabour Day is marked by trade union marches and gatherings in Fyzabad every year.
URL:https://visittrinidad.tt/event/labour-day
CATEGORIES:Public Holidays
END:VEVENT
END:VCALENDAR